BEGIN:VCALENDAR
VERSION:2.0
PRODID:-//Sidney Smith Commons - ECPv6.15.13.1//NONSGML v1.0//EN
CALSCALE:GREGORIAN
METHOD:PUBLISH
X-WR-CALNAME:Sidney Smith Commons
X-ORIGINAL-URL:https://sidneysmithcommons.artsci.utoronto.ca
X-WR-CALDESC:Events for Sidney Smith Commons
REFRESH-INTERVAL;VALUE=DURATION:PT1H
X-Robots-Tag:noindex
X-PUBLISHED-TTL:PT1H
BEGIN:VTIMEZONE
TZID:America/Toronto
BEGIN:DAYLIGHT
TZOFFSETFROM:-0500
TZOFFSETTO:-0400
TZNAME:EDT
DTSTART:20230312T070000
END:DAYLIGHT
BEGIN:STANDARD
TZOFFSETFROM:-0400
TZOFFSETTO:-0500
TZNAME:EST
DTSTART:20231105T060000
END:STANDARD
BEGIN:DAYLIGHT
TZOFFSETFROM:-0500
TZOFFSETTO:-0400
TZNAME:EDT
DTSTART:20240310T070000
END:DAYLIGHT
BEGIN:STANDARD
TZOFFSETFROM:-0400
TZOFFSETTO:-0500
TZNAME:EST
DTSTART:20241103T060000
END:STANDARD
BEGIN:DAYLIGHT
TZOFFSETFROM:-0500
TZOFFSETTO:-0400
TZNAME:EDT
DTSTART:20250309T070000
END:DAYLIGHT
BEGIN:STANDARD
TZOFFSETFROM:-0400
TZOFFSETTO:-0500
TZNAME:EST
DTSTART:20251102T060000
END:STANDARD
END:VTIMEZONE
BEGIN:VEVENT
DTSTART;TZID=America/Toronto:20240207T110000
DTEND;TZID=America/Toronto:20240207T150000
DTSTAMP:20260423T054010
CREATED:20240115T165659Z
LAST-MODIFIED:20240119T151513Z
UID:35743-1707303600-1707318000@sidneysmithcommons.artsci.utoronto.ca
SUMMARY:Program Planning Days
DESCRIPTION:February 7\, 13 & 15\, 2024\, Sidney Smith Hall \nDrop by Sidney Smith Hall to learn how to choose your program of study\, understand program requirements and discover important tools including the Program Toolkit\, ACORN and the Academic Calendar. \nRegister for Program Planning Days.
URL:https://sidneysmithcommons.artsci.utoronto.ca/event/program-planning-days/2024-02-07/
LOCATION:Sidney Smith Hall\, 100 St George Street
CATEGORIES:Program Exploration Day
ATTACH;FMTTYPE=image/jpeg:https://sidneysmithcommons.artsci.utoronto.ca/wp-content/uploads/2024/01/438A7802.jpg
END:VEVENT
END:VCALENDAR