BEGIN:VCALENDAR
VERSION:2.0
PRODID:-//Sidney Smith Commons - ECPv6.15.13.1//NONSGML v1.0//EN
CALSCALE:GREGORIAN
METHOD:PUBLISH
X-WR-CALNAME:Sidney Smith Commons
X-ORIGINAL-URL:https://sidneysmithcommons.artsci.utoronto.ca
X-WR-CALDESC:Events for Sidney Smith Commons
REFRESH-INTERVAL;VALUE=DURATION:PT1H
X-Robots-Tag:noindex
X-PUBLISHED-TTL:PT1H
BEGIN:VTIMEZONE
TZID:America/Toronto
BEGIN:DAYLIGHT
TZOFFSETFROM:-0500
TZOFFSETTO:-0400
TZNAME:EDT
DTSTART:20230312T070000
END:DAYLIGHT
BEGIN:STANDARD
TZOFFSETFROM:-0400
TZOFFSETTO:-0500
TZNAME:EST
DTSTART:20231105T060000
END:STANDARD
BEGIN:DAYLIGHT
TZOFFSETFROM:-0500
TZOFFSETTO:-0400
TZNAME:EDT
DTSTART:20240310T070000
END:DAYLIGHT
BEGIN:STANDARD
TZOFFSETFROM:-0400
TZOFFSETTO:-0500
TZNAME:EST
DTSTART:20241103T060000
END:STANDARD
BEGIN:DAYLIGHT
TZOFFSETFROM:-0500
TZOFFSETTO:-0400
TZNAME:EDT
DTSTART:20250309T070000
END:DAYLIGHT
BEGIN:STANDARD
TZOFFSETFROM:-0400
TZOFFSETTO:-0500
TZNAME:EST
DTSTART:20251102T060000
END:STANDARD
END:VTIMEZONE
BEGIN:VEVENT
DTSTART;TZID=America/Toronto:20240118T080000
DTEND;TZID=America/Toronto:20240118T170000
DTSTAMP:20260421T234012
CREATED:20240118T193631Z
LAST-MODIFIED:20240118T193733Z
UID:35837-1705564800-1705597200@sidneysmithcommons.artsci.utoronto.ca
SUMMARY:Cinema Studies: Careers After Cinema Studies
DESCRIPTION:A panel of Cinema Studies alumni will share how their degree lead to their career. \nDetails are available on the webpage.
URL:https://sidneysmithcommons.artsci.utoronto.ca/event/cinema-studies-careers-after-cinema-studies/
CATEGORIES:Program Exploration Day
END:VEVENT
BEGIN:VEVENT
DTSTART;TZID=America/Toronto:20240129T140000
DTEND;TZID=America/Toronto:20240129T160000
DTSTAMP:20260421T234012
CREATED:20240129T165049Z
LAST-MODIFIED:20240129T165102Z
UID:35944-1706536800-1706544000@sidneysmithcommons.artsci.utoronto.ca
SUMMARY:St. Michael's College Program Enrolment Workshop
DESCRIPTION:SMC Program Enrolment Workshop \n\n\n\nLearn about applying to your programs of interest\, review program enrolment requirements and navigate ACORN together in this virtual session. \n\nRegister to attend the workshops.
URL:https://sidneysmithcommons.artsci.utoronto.ca/event/st-michaels-college-program-enrolment-workshop/2024-01-29/
CATEGORIES:Program Exploration Day
END:VEVENT
BEGIN:VEVENT
DTSTART;TZID=America/Toronto:20240131T080000
DTEND;TZID=America/Toronto:20240131T170000
DTSTAMP:20260421T234012
CREATED:20240118T193152Z
LAST-MODIFIED:20240118T193346Z
UID:35826-1706688000-1706720400@sidneysmithcommons.artsci.utoronto.ca
SUMMARY:Women & Gender Studies: 50 Years of WGSI at U of T
DESCRIPTION:Various Dates: January 31\, 2024 | February 28\, 2024 | March 6\, 2024 | April 11\, 2024 \nJoin the Women & Gender Studies Institute for a series of events to honour our 50th Anniversary. The University of Toronto holds the distinction of having one of the oldest programs in Women and Gender Studies in Canada\, beginning in the 1970s. \nFor details\, visit the webpage.
URL:https://sidneysmithcommons.artsci.utoronto.ca/event/50-years-of-wgsi-at-u-of-t/2024-01-31/
CATEGORIES:Program Exploration Day
END:VEVENT
END:VCALENDAR