BEGIN:VCALENDAR
VERSION:2.0
PRODID:-//Sidney Smith Commons - ECPv6.15.13.1//NONSGML v1.0//EN
CALSCALE:GREGORIAN
METHOD:PUBLISH
X-WR-CALNAME:Sidney Smith Commons
X-ORIGINAL-URL:https://sidneysmithcommons.artsci.utoronto.ca
X-WR-CALDESC:Events for Sidney Smith Commons
REFRESH-INTERVAL;VALUE=DURATION:PT1H
X-Robots-Tag:noindex
X-PUBLISHED-TTL:PT1H
BEGIN:VTIMEZONE
TZID:America/Toronto
BEGIN:DAYLIGHT
TZOFFSETFROM:-0500
TZOFFSETTO:-0400
TZNAME:EDT
DTSTART:20240310T070000
END:DAYLIGHT
BEGIN:STANDARD
TZOFFSETFROM:-0400
TZOFFSETTO:-0500
TZNAME:EST
DTSTART:20241103T060000
END:STANDARD
BEGIN:DAYLIGHT
TZOFFSETFROM:-0500
TZOFFSETTO:-0400
TZNAME:EDT
DTSTART:20250309T070000
END:DAYLIGHT
BEGIN:STANDARD
TZOFFSETFROM:-0400
TZOFFSETTO:-0500
TZNAME:EST
DTSTART:20251102T060000
END:STANDARD
BEGIN:DAYLIGHT
TZOFFSETFROM:-0500
TZOFFSETTO:-0400
TZNAME:EDT
DTSTART:20260308T070000
END:DAYLIGHT
BEGIN:STANDARD
TZOFFSETFROM:-0400
TZOFFSETTO:-0500
TZNAME:EST
DTSTART:20261101T060000
END:STANDARD
END:VTIMEZONE
BEGIN:VEVENT
DTSTART;TZID=America/Toronto:20250930T100000
DTEND;TZID=America/Toronto:20250930T193000
DTSTAMP:20260422T202203
CREATED:20251024T205125Z
LAST-MODIFIED:20251024T205125Z
UID:41572-1759226400-1759260600@sidneysmithcommons.artsci.utoronto.ca
SUMMARY:SSC Open
DESCRIPTION:The SSC is a study space for Arts & Science students. During summer term\, A&S students can drop in for independent study at the following times: \n\nMondays to Thursdays |10 am to 7:30 pm\nFridays | 10 am to 5 pm\n\nLearn more about the SSC space on campus\, services offered through the SSC Online and our team on our About page
URL:https://sidneysmithcommons.artsci.utoronto.ca/event/ssc-open-8/2025-09-30/
LOCATION:Sidney Smith Commons (SSC)\, 100 St. George Street\, Toronto\, ON\, M5S 3G3\, Canada
END:VEVENT
BEGIN:VEVENT
DTSTART;TZID=America/Toronto:20250930T130000
DTEND;TZID=America/Toronto:20250930T153000
DTSTAMP:20260422T202203
CREATED:20251024T204836Z
LAST-MODIFIED:20251024T204836Z
UID:41520-1759237200-1759246200@sidneysmithcommons.artsci.utoronto.ca
SUMMARY:Meet to Complete
DESCRIPTION:Drop in & join us over the summer:\n\nMondays – Fridays\, 1:00pm – 3:30pm\nMondays – Thursdays\, 5:00pm – 7:30pm\n\nHow does Meet to Complete work? \n\nDrop into Section C of the Sidney Smith Commons to join; no appointment required. \nThe first 30 minutes include time to settle in\, an introduction and an opportunity to identify a goal to achieve during the session. \nThe next two hours include dedicated quiet study time using the Pomodoro technique\, helping to maximize focus to support you meeting your study goal. \nYou are not required to stay the entire duration of the session. \n\n Why join Meet to Complete?  \n\nWork alongside other students to stay motivated \nPractice evidence-based strategies for effective study habits  \nIncrease accountability & productivity \nSet study goals with the support of our SSC student-staff \nMeet other students and stay connected\nAttend 6 session to earn a Co-Curricular Record credit \n\nLearn more about Meet to Complete.
URL:https://sidneysmithcommons.artsci.utoronto.ca/event/meet-to-complete-31/2025-09-30/
LOCATION:Sidney Smith Commons (SSC)\, 100 St. George Street\, Toronto\, ON\, M5S 3G3\, Canada
CATEGORIES:Meet to Complete
END:VEVENT
BEGIN:VEVENT
DTSTART;TZID=America/Toronto:20250930T170000
DTEND;TZID=America/Toronto:20250930T193000
DTSTAMP:20260422T202203
CREATED:20251024T204836Z
LAST-MODIFIED:20251024T204836Z
UID:41521-1759251600-1759260600@sidneysmithcommons.artsci.utoronto.ca
SUMMARY:Meet to Complete
DESCRIPTION:Drop in & join us over the summer:\n\nMondays – Fridays\, 1:00pm – 3:30pm\nMondays – Thursdays\, 5:00pm – 7:30pm\n\nHow does Meet to Complete work? \n\nDrop into Section C of the Sidney Smith Commons to join; no appointment required. \nThe first 30 minutes include time to settle in\, an introduction and an opportunity to identify a goal to achieve during the session. \nThe next two hours include dedicated quiet study time using the Pomodoro technique\, helping to maximize focus to support you meeting your study goal. \nYou are not required to stay the entire duration of the session. \n\n Why join Meet to Complete?  \n\nWork alongside other students to stay motivated \nPractice evidence-based strategies for effective study habits  \nIncrease accountability & productivity \nSet study goals with the support of our SSC student-staff \nMeet other students and stay connected\nAttend 6 session to earn a Co-Curricular Record credit \n\nLearn more about Meet to Complete.
URL:https://sidneysmithcommons.artsci.utoronto.ca/event/meet-to-complete-31/2025-09-30/9/
LOCATION:Sidney Smith Commons (SSC)\, 100 St. George Street\, Toronto\, ON\, M5S 3G3\, Canada
CATEGORIES:Meet to Complete
END:VEVENT
END:VCALENDAR