BEGIN:VCALENDAR
VERSION:2.0
PRODID:-//Sidney Smith Commons - ECPv6.15.13.1//NONSGML v1.0//EN
CALSCALE:GREGORIAN
METHOD:PUBLISH
X-WR-CALNAME:Sidney Smith Commons
X-ORIGINAL-URL:https://sidneysmithcommons.artsci.utoronto.ca
X-WR-CALDESC:Events for Sidney Smith Commons
REFRESH-INTERVAL;VALUE=DURATION:PT1H
X-Robots-Tag:noindex
X-PUBLISHED-TTL:PT1H
BEGIN:VTIMEZONE
TZID:America/Toronto
BEGIN:DAYLIGHT
TZOFFSETFROM:-0500
TZOFFSETTO:-0400
TZNAME:EDT
DTSTART:20240310T070000
END:DAYLIGHT
BEGIN:STANDARD
TZOFFSETFROM:-0400
TZOFFSETTO:-0500
TZNAME:EST
DTSTART:20241103T060000
END:STANDARD
BEGIN:DAYLIGHT
TZOFFSETFROM:-0500
TZOFFSETTO:-0400
TZNAME:EDT
DTSTART:20250309T070000
END:DAYLIGHT
BEGIN:STANDARD
TZOFFSETFROM:-0400
TZOFFSETTO:-0500
TZNAME:EST
DTSTART:20251102T060000
END:STANDARD
BEGIN:DAYLIGHT
TZOFFSETFROM:-0500
TZOFFSETTO:-0400
TZNAME:EDT
DTSTART:20260308T070000
END:DAYLIGHT
BEGIN:STANDARD
TZOFFSETFROM:-0400
TZOFFSETTO:-0500
TZNAME:EST
DTSTART:20261101T060000
END:STANDARD
END:VTIMEZONE
BEGIN:VEVENT
DTSTART;TZID=America/Toronto:20250911T100000
DTEND;TZID=America/Toronto:20250911T193000
DTSTAMP:20260423T001227
CREATED:20251024T205125Z
LAST-MODIFIED:20251024T205125Z
UID:41556-1757584800-1757619000@sidneysmithcommons.artsci.utoronto.ca
SUMMARY:SSC Open
DESCRIPTION:The SSC is a study space for Arts & Science students. During summer term\, A&S students can drop in for independent study at the following times: \n\nMondays to Thursdays |10 am to 7:30 pm\nFridays | 10 am to 5 pm\n\nLearn more about the SSC space on campus\, services offered through the SSC Online and our team on our About page
URL:https://sidneysmithcommons.artsci.utoronto.ca/event/ssc-open-8/2025-09-11/
LOCATION:Sidney Smith Commons (SSC)\, 100 St. George Street\, Toronto\, ON\, M5S 3G3\, Canada
END:VEVENT
END:VCALENDAR