BEGIN:VCALENDAR
VERSION:2.0
PRODID:-//Sidney Smith Commons - ECPv6.15.13.1//NONSGML v1.0//EN
CALSCALE:GREGORIAN
METHOD:PUBLISH
X-WR-CALNAME:Sidney Smith Commons
X-ORIGINAL-URL:https://sidneysmithcommons.artsci.utoronto.ca
X-WR-CALDESC:Events for Sidney Smith Commons
REFRESH-INTERVAL;VALUE=DURATION:PT1H
X-Robots-Tag:noindex
X-PUBLISHED-TTL:PT1H
BEGIN:VTIMEZONE
TZID:America/Toronto
BEGIN:DAYLIGHT
TZOFFSETFROM:-0500
TZOFFSETTO:-0400
TZNAME:EDT
DTSTART:20240310T070000
END:DAYLIGHT
BEGIN:STANDARD
TZOFFSETFROM:-0400
TZOFFSETTO:-0500
TZNAME:EST
DTSTART:20241103T060000
END:STANDARD
BEGIN:DAYLIGHT
TZOFFSETFROM:-0500
TZOFFSETTO:-0400
TZNAME:EDT
DTSTART:20250309T070000
END:DAYLIGHT
BEGIN:STANDARD
TZOFFSETFROM:-0400
TZOFFSETTO:-0500
TZNAME:EST
DTSTART:20251102T060000
END:STANDARD
BEGIN:DAYLIGHT
TZOFFSETFROM:-0500
TZOFFSETTO:-0400
TZNAME:EDT
DTSTART:20260308T070000
END:DAYLIGHT
BEGIN:STANDARD
TZOFFSETFROM:-0400
TZOFFSETTO:-0500
TZNAME:EST
DTSTART:20261101T060000
END:STANDARD
END:VTIMEZONE
BEGIN:VEVENT
DTSTART;TZID=America/Toronto:20250702T140000
DTEND;TZID=America/Toronto:20250702T163000
DTSTAMP:20260422T190149
CREATED:20250528T132039Z
LAST-MODIFIED:20250528T135820Z
UID:41100-1751464800-1751473800@sidneysmithcommons.artsci.utoronto.ca
SUMMARY:Meet to Complete
DESCRIPTION:Drop in & join us over the summer:\n\nMondays: 2:30pm – 5:00pm \nTuesdays – Thursdays: 2:00pm – 4:30pm\n\nHow does Meet to Complete work? \n\nDrop into Section C of the Sidney Smith Commons to join; no appointment required. \nThe first 30 minutes include time to settle in\, an introduction and an opportunity to identify a goal to achieve during the session. \nThe next two hours include dedicated quiet study time using the Pomodoro technique\, helping to maximize focus to support you meeting your study goal. \nYou are not required to stay the entire duration of the session. \n\n Why join Meet to Complete?  \n\nWork alongside other students to stay motivated \nPractice evidence-based strategies for effective study habits  \nIncrease accountability & productivity \nSet study goals with the support of our SSC student-staff \nMeet other students and stay connected \nAttend 6 session to earn a Co-Curricular Record credit 
URL:https://sidneysmithcommons.artsci.utoronto.ca/event/meet-to-complete-30/2025-07-02/
LOCATION:Sidney Smith Commons (SSC)\, 100 St. George Street\, Toronto\, ON\, M5S 3G3\, Canada
CATEGORIES:Meet to Complete
END:VEVENT
END:VCALENDAR